BEGIN:VCALENDAR
VERSION:2.0
PRODID:-//Tanzt das Leben - ECPv6.3.5//NONSGML v1.0//EN
CALSCALE:GREGORIAN
METHOD:PUBLISH
X-ORIGINAL-URL:https://tanztdasleben.de
X-WR-CALDESC:Veranstaltungen für Tanzt das Leben
REFRESH-INTERVAL;VALUE=DURATION:PT1H
X-Robots-Tag:noindex
X-PUBLISHED-TTL:PT1H
BEGIN:VTIMEZONE
TZID:Europe/Berlin
BEGIN:DAYLIGHT
TZOFFSETFROM:+0100
TZOFFSETTO:+0200
TZNAME:CEST
DTSTART:20260329T010000
END:DAYLIGHT
BEGIN:STANDARD
TZOFFSETFROM:+0200
TZOFFSETTO:+0100
TZNAME:CET
DTSTART:20261025T010000
END:STANDARD
BEGIN:DAYLIGHT
TZOFFSETFROM:+0100
TZOFFSETTO:+0200
TZNAME:CEST
DTSTART:20270328T010000
END:DAYLIGHT
BEGIN:STANDARD
TZOFFSETFROM:+0200
TZOFFSETTO:+0100
TZNAME:CET
DTSTART:20271031T010000
END:STANDARD
END:VTIMEZONE
BEGIN:VEVENT
DTSTART;TZID=Europe/Berlin:20260506T200000
DTEND;TZID=Europe/Berlin:20260506T213000
DTSTAMP:20260420T135500
CREATED:20260201T142753Z
LAST-MODIFIED:20260201T142843Z
UID:4284-1778097600-1778103000@tanztdasleben.de
SUMMARY:Horizonte - 4. Kursabend
DESCRIPTION:Fortlaufender Kurs: Starttermin am 15.04.2026 \nWeitere Informationen.
URL:https://tanztdasleben.de/event/horizonte-4
LOCATION:Der Bewegungsraum\, Riedstraße 2\, Darmstadt\, Hessen\, 64295\, Deutschland
CATEGORIES:Kurs
ATTACH;FMTTYPE=image/png:https://tanztdasleben.de/wp-content/uploads/2026/02/Bild-Webseite.png
END:VEVENT
BEGIN:VEVENT
DTSTART;TZID=Europe/Berlin:20260610T200000
DTEND;TZID=Europe/Berlin:20260610T213000
DTSTAMP:20260420T135500
CREATED:20260201T140558Z
LAST-MODIFIED:20260201T141500Z
UID:4267-1781121600-1781127000@tanztdasleben.de
SUMMARY:Horizonte - 5. Kursabend
DESCRIPTION:Fortlaufender Kurs: Starttermin am 15.04.2026 \nWeitere Informationen.
URL:https://tanztdasleben.de/event/horizonte-5
LOCATION:Der Bewegungsraum\, Riedstraße 2\, Darmstadt\, Hessen\, 64295\, Deutschland
CATEGORIES:Kurs
ATTACH;FMTTYPE=image/png:https://tanztdasleben.de/wp-content/uploads/2026/02/Bild-Webseite.png
END:VEVENT
BEGIN:VEVENT
DTSTART;TZID=Europe/Berlin:20260617T200000
DTEND;TZID=Europe/Berlin:20260617T213000
DTSTAMP:20260420T135500
CREATED:20260201T140856Z
LAST-MODIFIED:20260201T141526Z
UID:4271-1781726400-1781731800@tanztdasleben.de
SUMMARY:Horizonte - 6. Kursabend
DESCRIPTION:Fortlaufender Kurs: Starttermin am 15.04.2026 \nWeitere Informationen.
URL:https://tanztdasleben.de/event/horizonte-6
LOCATION:Der Bewegungsraum\, Riedstraße 2\, Darmstadt\, Hessen\, 64295\, Deutschland
CATEGORIES:Kurs
ATTACH;FMTTYPE=image/png:https://tanztdasleben.de/wp-content/uploads/2026/02/Bild-Webseite.png
END:VEVENT
BEGIN:VEVENT
DTSTART;TZID=Europe/Berlin:20260620T163000
DTEND;TZID=Europe/Berlin:20260620T183000
DTSTAMP:20260420T135500
CREATED:20251027T200744Z
LAST-MODIFIED:20260312T145546Z
UID:4137-1781973000-1781980200@tanztdasleben.de
SUMMARY:Offene Samstagsklasse
DESCRIPTION:Core Connexion: Dein Tanz-Samstag für Körper & Seele \nSchenk Dir zwei Stunden Zeit\, um den Alltag hinter Dir zu lassen und Deine kreative Lebendigkeit zu wecken. In der offenen Samstagsklasse laden wir dich ein\, Deine inneren Ressourcen spielerisch tanzend zu entdecken. \nSo fließen wir durch die Session: \n\nAnkommen & Spüren: Wir beginnen mit sanften somatischen Übungen und kurzen Einstimmungen. Du findest Deinen Stand\, verbindest Körper und Geist und kommst ganz im Moment an.\nEintauchen & Bewegen: Ein freier Tanz-Cycle nimmt Dich mit auf eine Reise durch abwechslungsreiche Musik – mal kraftvoll und lebendig\, mal still und beinahe meditativ.\nEntdecken & Entfalten: Kleine Impulse und spielerische Aufgaben (Scores) laden Dich ein\, mit Deiner Energie zu experimentieren. Ohne feste Schritte oder Technik öffnet sich ein Raum für Deinen ganz persönlichen Ausdruck und neue Begegnungen. Unser Motto dabei: alles kann – nichts muss.\n\nWir laden dich ein\, ganz bei Dir zu sein\, Deine Vitalität zu spüren und Dich am Ende präsent\, lebendig und im Fluss zu erleben. Vorkenntnisse sind nicht nötig. Komm auf unsere Tanzfläche\, einfach so wie Du bist. \nAnmeldung \nEine Core Connexion Session von Tanzt das Leben.
URL:https://tanztdasleben.de/event/offene-samstagsklasse-6
LOCATION:Tanzwerkstatt Darmstadt\, Otto-Röhm-Straße 68\, Darmstadt\, 64293\, Deutschland
CATEGORIES:Offene Klasse
ATTACH;FMTTYPE=image/png:https://tanztdasleben.de/wp-content/uploads/2024/05/cropped-Header-Endversion-1.png
END:VEVENT
BEGIN:VEVENT
DTSTART;TZID=Europe/Berlin:20260624T080000
DTEND;TZID=Europe/Berlin:20260624T170000
DTSTAMP:20260420T135500
CREATED:20260201T141148Z
LAST-MODIFIED:20260201T141533Z
UID:4273-1782288000-1782320400@tanztdasleben.de
SUMMARY:Horizonte - 7. Kursabend
DESCRIPTION:Fortlaufender Kurs: Starttermin am 15.04.2026 \nWeitere Informationen.
URL:https://tanztdasleben.de/event/horizonte-7
LOCATION:Der Bewegungsraum\, Riedstraße 2\, Darmstadt\, Hessen\, 64295\, Deutschland
CATEGORIES:Kurs
ATTACH;FMTTYPE=image/png:https://tanztdasleben.de/wp-content/uploads/2026/02/Bild-Webseite.png
END:VEVENT
BEGIN:VEVENT
DTSTART;TZID=Europe/Berlin:20260701T200000
DTEND;TZID=Europe/Berlin:20260701T213000
DTSTAMP:20260420T135500
CREATED:20260201T141312Z
LAST-MODIFIED:20260201T141546Z
UID:4275-1782936000-1782941400@tanztdasleben.de
SUMMARY:Horizonte - 8. Kursabend
DESCRIPTION:Fortlaufender Kurs: Starttermin am 15.04.2026 \nWeitere Informationen.
URL:https://tanztdasleben.de/event/horizonte-8
LOCATION:Der Bewegungsraum\, Riedstraße 2\, Darmstadt\, Hessen\, 64295\, Deutschland
CATEGORIES:Kurs
ATTACH;FMTTYPE=image/png:https://tanztdasleben.de/wp-content/uploads/2026/02/Bild-Webseite.png
END:VEVENT
BEGIN:VEVENT
DTSTART;TZID=Europe/Berlin:20260718T080000
DTEND;TZID=Europe/Berlin:20260718T170000
DTSTAMP:20260420T135500
CREATED:20251027T200849Z
LAST-MODIFIED:20260201T143051Z
UID:4139-1784361600-1784394000@tanztdasleben.de
SUMMARY:Offene Samstagsklasse
DESCRIPTION:In der offenen Klasse schenkst Du Dir zwei Stunden Zeit nur für Dich und Deinen Körper. Wir beginnen mit einfachen somatischen Übungen und kurzen Einstimmungen\, damit Du im Körper\, im Raum und im Moment ankommen kannst. \nDanach öffnet sich ein freier Tanz-Cycle zu abwechslungsreicher Musik – mal lebendig und kraftvoll\, mal ruhig und beinahe meditativ. Kleine Impulse und spielerische Tanzaufgaben (Scores) laden Dich ein\, neue Bewegungen\, Begegnungen und Ausdrucksformen zu entdecken. \nEs geht nicht um Technik oder perfekte Schritte\, sondern um Achtsamkeit\, Präsenz und Freude an der Bewegung. Eingeladen sind Frauen und Männer\, die sich etwas Gutes tun und den Alltag für eine Weile hinter sich lassen möchten. Vorkenntnisse sind nicht nötig – Du kommst\, so wie Du bist. \nAnmeldung \nEine Core Connexion Session von Tanzt das Leben.
URL:https://tanztdasleben.de/event/offene-samstagsklasse-7
LOCATION:Tanzwerkstatt Darmstadt\, Otto-Röhm-Straße 68\, Darmstadt\, 64293\, Deutschland
CATEGORIES:Offene Klasse
ATTACH;FMTTYPE=image/png:https://tanztdasleben.de/wp-content/uploads/2024/03/43434470.png
END:VEVENT
BEGIN:VEVENT
DTSTART;TZID=Europe/Berlin:20260815T080000
DTEND;TZID=Europe/Berlin:20260815T170000
DTSTAMP:20260420T135500
CREATED:20251027T201057Z
LAST-MODIFIED:20260222T102151Z
UID:4143-1786780800-1786813200@tanztdasleben.de
SUMMARY:Offene Samstagsklasse
DESCRIPTION:Core Connexion: Dein Tanz-Samstag für Körper & Seele \nSchenk Dir zwei Stunden Zeit\, um den Alltag hinter Dir zu lassen und Deine kreative Lebendigkeit zu wecken. In der offenen Samstagsklasse laden wir dich ein\, Deine inneren Ressourcen spielerisch tanzend zu entdecken. \nSo fließen wir durch die Session: \n\nAnkommen & Spüren: Wir beginnen mit sanften somatischen Übungen und kurzen Einstimmungen. Du findest Deinen Stand\, verbindest Körper und Geist und kommst ganz im Moment an.\nEintauchen & Bewegen: Ein freier Tanz-Cycle nimmt Dich mit auf eine Reise durch abwechslungsreiche Musik – mal kraftvoll und lebendig\, mal still und beinahe meditativ.\nEntdecken & Entfalten: Kleine Impulse und spielerische Aufgaben (Scores) laden Dich ein\, mit Deiner Energie zu experimentieren. Ohne feste Schritte oder Technik öffnet sich ein Raum für Deinen ganz persönlichen Ausdruck und neue Begegnungen. Unser Motto dabei: alles kann – nichts muss.\n\nWir laden dich ein\, ganz bei Dir zu sein\, Deine Vitalität zu spüren und Dich am Ende präsent\, lebendig und im Fluss zu erleben. Vorkenntnisse sind nicht nötig. Komm auf unsere Tanzfläche\, einfach so wie Du bist. \nAnmeldung \nEine Core Connexion Session von Tanzt das Leben.
URL:https://tanztdasleben.de/event/offene-samstagsklasse-8
LOCATION:Tanzwerkstatt Darmstadt\, Otto-Röhm-Straße 68\, Darmstadt\, 64293\, Deutschland
CATEGORIES:Offene Klasse
ATTACH;FMTTYPE=image/png:https://tanztdasleben.de/wp-content/uploads/2024/03/43434470.png
END:VEVENT
BEGIN:VEVENT
DTSTART;TZID=Europe/Berlin:20260919T163000
DTEND;TZID=Europe/Berlin:20260919T183000
DTSTAMP:20260420T135500
CREATED:20251027T201000Z
LAST-MODIFIED:20260222T102326Z
UID:4141-1789835400-1789842600@tanztdasleben.de
SUMMARY:Offene Samstagsklasse
DESCRIPTION:Dein Tanz-Samstag für Körper & Seele \nSchenk Dir zwei Stunden Zeit\, um den Alltag hinter Dir zu lassen und Deine kreative Lebendigkeit zu wecken. In der offenen Samstagsklasse laden wir dich ein\, Deine inneren Ressourcen spielerisch tanzend zu entdecken. \nSo fließen wir durch die Session: \n\nAnkommen & Spüren: Wir beginnen mit sanften somatischen Übungen und kurzen Einstimmungen. Du findest Deinen Stand\, verbindest Körper und Geist und kommst ganz im Moment an.\nEintauchen & Bewegen: Ein freier Tanz-Cycle nimmt Dich mit auf eine Reise durch abwechslungsreiche Musik – mal kraftvoll und lebendig\, mal still und beinahe meditativ.\nEntdecken & Entfalten: Kleine Impulse und spielerische Aufgaben (Scores) laden Dich ein\, mit Deiner Energie zu experimentieren. Ohne feste Schritte oder Technik öffnet sich ein Raum für Deinen ganz persönlichen Ausdruck und neue Begegnungen. Unser Motto dabei: alles kann – nichts muss.\n\nWir laden dich ein\, ganz bei Dir zu sein\, Deine Vitalität zu spüren und Dich am Ende präsent\, lebendig und im Fluss zu erleben. Vorkenntnisse sind nicht nötig. Komm auf unsere Tanzfläche\, einfach so wie Du bist. \nAnmeldung \nEine Core Connexion Session von Tanzt das Leben.
URL:https://tanztdasleben.de/event/offene-samstagsklasse-9
LOCATION:Tanzwerkstatt Darmstadt\, Otto-Röhm-Straße 68\, Darmstadt\, 64293\, Deutschland
CATEGORIES:Offene Klasse
ATTACH;FMTTYPE=image/png:https://tanztdasleben.de/wp-content/uploads/2024/03/43434470.png
END:VEVENT
BEGIN:VEVENT
DTSTART;TZID=Europe/Berlin:20261011T110000
DTEND;TZID=Europe/Berlin:20261011T170000
DTSTAMP:20260420T135500
CREATED:20260307T140519Z
LAST-MODIFIED:20260312T143755Z
UID:4331-1791716400-1791738000@tanztdasleben.de
SUMMARY:Herbstworkshop
DESCRIPTION:Der Herbst bringt eine besondere Stimmung mit sich. Das Licht wird weicher\, die Farben tiefer\, die Luft klarer. Es beginnt die Zeit zwischen Bewegung und Innehalten. \nIn unserem Herbstworkshop öffnen wir einen Raum\, in dem du dir selbst begegnen kannst. Schritt für Schritt darf dein Körper in Bewegung kommen\, darf erkunden\, lauschen\, sich entfalten. \nIm Tanz entsteht ein lebendiges Feld: Menschen bewegen sich nebeneinander\, miteinander\, manchmal ganz für sich. Impulse tauchen auf\, verändern sich\, verweben sich mit denen der anderen. \nSo wächst aus vielen einzelnen Bewegungen ein gemeinsamer Raum – voller Aufmerksamkeit\, Begegnung und Lebendigkeit. \nUnd am Ende bleibt etwas zurück:eine Spur von Ruhe\, ein neues Körpergefühl\, ein leiser Nachklang\, der dich noch eine Weile begleitet. \nKosten 90 Euro\, Early-Bird bei Anmeldung bis 12.09.2026 75 Euro \nKomm und tanze mit uns.
URL:https://tanztdasleben.de/event/herbstworkshop26
LOCATION:Der Bewegungsraum\, Riedstraße 2\, Darmstadt\, Hessen\, 64295\, Deutschland
CATEGORIES:Workshop
ATTACH;FMTTYPE=image/jpeg:https://tanztdasleben.de/wp-content/uploads/2019/10/tree-736885_1280.jpg
END:VEVENT
BEGIN:VEVENT
DTSTART;TZID=Europe/Berlin:20261017T163000
DTEND;TZID=Europe/Berlin:20261017T183000
DTSTAMP:20260420T135500
CREATED:20260201T142516Z
LAST-MODIFIED:20260222T102334Z
UID:4282-1792254600-1792261800@tanztdasleben.de
SUMMARY:Offene Samstagsklasse
DESCRIPTION:Dein Tanz-Samstag für Körper & Seele \nSchenk Dir zwei Stunden Zeit\, um den Alltag hinter Dir zu lassen und Deine kreative Lebendigkeit zu wecken. In der offenen Samstagsklasse laden wir dich ein\, Deine inneren Ressourcen spielerisch tanzend zu entdecken. \nSo fließen wir durch die Session: \n\nAnkommen & Spüren: Wir beginnen mit sanften somatischen Übungen und kurzen Einstimmungen. Du findest Deinen Stand\, verbindest Körper und Geist und kommst ganz im Moment an.\nEintauchen & Bewegen: Ein freier Tanz-Cycle nimmt Dich mit auf eine Reise durch abwechslungsreiche Musik – mal kraftvoll und lebendig\, mal still und beinahe meditativ.\nEntdecken & Entfalten: Kleine Impulse und spielerische Aufgaben (Scores) laden Dich ein\, mit Deiner Energie zu experimentieren. Ohne feste Schritte oder Technik öffnet sich ein Raum für Deinen ganz persönlichen Ausdruck und neue Begegnungen. Unser Motto dabei: alles kann – nichts muss.\n\nWir laden dich ein\, ganz bei Dir zu sein\, Deine Vitalität zu spüren und Dich am Ende präsent\, lebendig und im Fluss zu erleben. Vorkenntnisse sind nicht nötig. Komm auf unsere Tanzfläche\, einfach so wie Du bist. \nAnmeldung \nEine Core Connexion Session von Tanzt das Leben.
URL:https://tanztdasleben.de/event/offene-samstagsklasse-10
LOCATION:Tanzwerkstatt Darmstadt\, Otto-Röhm-Straße 68\, Darmstadt\, 64293\, Deutschland
CATEGORIES:Offene Klasse
ATTACH;FMTTYPE=image/png:https://tanztdasleben.de/wp-content/uploads/2024/03/43434470.png
END:VEVENT
BEGIN:VEVENT
DTSTART;TZID=Europe/Berlin:20261121T163000
DTEND;TZID=Europe/Berlin:20261121T183000
DTSTAMP:20260420T135500
CREATED:20260307T161953Z
LAST-MODIFIED:20260307T162346Z
UID:4335-1795278600-1795285800@tanztdasleben.de
SUMMARY:Offene Samtagsklasse
DESCRIPTION:Dein Tanz-Samstag für Körper & Seele \nSchenk Dir zwei Stunden Zeit\, um den Alltag hinter Dir zu lassen und Deine kreative Lebendigkeit zu wecken. In der offenen Samstagsklasse laden wir dich ein\, Deine inneren Ressourcen spielerisch tanzend zu entdecken. \nSo fließen wir durch die Session: \n\nAnkommen & Spüren: Wir beginnen mit sanften somatischen Übungen und kurzen Einstimmungen. Du findest Deinen Stand\, verbindest Körper und Geist und kommst ganz im Moment an.\nEintauchen & Bewegen: Ein freier Tanz-Cycle nimmt Dich mit auf eine Reise durch abwechslungsreiche Musik – mal kraftvoll und lebendig\, mal still und beinahe meditativ.\nEntdecken & Entfalten: Kleine Impulse und spielerische Aufgaben (Scores) laden Dich ein\, mit Deiner Energie zu experimentieren. Ohne feste Schritte oder Technik öffnet sich ein Raum für Deinen ganz persönlichen Ausdruck und neue Begegnungen. Unser Motto dabei: alles kann – nichts muss.\n\nWir laden dich ein\, ganz bei Dir zu sein\, Deine Vitalität zu spüren und Dich am Ende präsent\, lebendig und im Fluss zu erleben. Vorkenntnisse sind nicht nötig. Komm auf unsere Tanzfläche\, einfach so wie Du bist. \nAnmeldung \nEine Core Connexion Session von Tanzt das Leben.
URL:https://tanztdasleben.de/event/offene-samstagsklasse-11
LOCATION:Tanzwerkstatt Darmstadt\, Otto-Röhm-Straße 68\, Darmstadt\, 64293\, Deutschland
CATEGORIES:Offene Klasse
ATTACH;FMTTYPE=image/png:https://tanztdasleben.de/wp-content/uploads/2024/03/43434470.png
END:VEVENT
BEGIN:VEVENT
DTSTART;TZID=Europe/Berlin:20261219T163000
DTEND;TZID=Europe/Berlin:20261219T183000
DTSTAMP:20260420T135500
CREATED:20260307T162252Z
LAST-MODIFIED:20260307T162353Z
UID:4337-1797697800-1797705000@tanztdasleben.de
SUMMARY:Offene Samstagsklasse
DESCRIPTION:Dein Tanz-Samstag für Körper & Seele \nSchenk Dir zwei Stunden Zeit\, um den Alltag hinter Dir zu lassen und Deine kreative Lebendigkeit zu wecken. In der offenen Samstagsklasse laden wir dich ein\, Deine inneren Ressourcen spielerisch tanzend zu entdecken. \nSo fließen wir durch die Session: \n\nAnkommen & Spüren: Wir beginnen mit sanften somatischen Übungen und kurzen Einstimmungen. Du findest Deinen Stand\, verbindest Körper und Geist und kommst ganz im Moment an.\nEintauchen & Bewegen: Ein freier Tanz-Cycle nimmt Dich mit auf eine Reise durch abwechslungsreiche Musik – mal kraftvoll und lebendig\, mal still und beinahe meditativ.\nEntdecken & Entfalten: Kleine Impulse und spielerische Aufgaben (Scores) laden Dich ein\, mit Deiner Energie zu experimentieren. Ohne feste Schritte oder Technik öffnet sich ein Raum für Deinen ganz persönlichen Ausdruck und neue Begegnungen. Unser Motto dabei: alles kann – nichts muss.\n\nWir laden dich ein\, ganz bei Dir zu sein\, Deine Vitalität zu spüren und Dich am Ende präsent\, lebendig und im Fluss zu erleben. Vorkenntnisse sind nicht nötig. Komm auf unsere Tanzfläche\, einfach so wie Du bist. \nAnmeldung \nEine Core Connexion Session von Tanzt das Leben.
URL:https://tanztdasleben.de/event/offene-samstagsklasse-12
LOCATION:Tanzwerkstatt Darmstadt\, Otto-Röhm-Straße 68\, Darmstadt\, 64293\, Deutschland
CATEGORIES:Offene Klasse
ATTACH;FMTTYPE=image/png:https://tanztdasleben.de/wp-content/uploads/2023/06/Tanzbegenungen.png
END:VEVENT
BEGIN:VEVENT
DTSTART;TZID=Europe/Berlin:20270110T110000
DTEND;TZID=Europe/Berlin:20270110T170000
DTSTAMP:20260420T135500
CREATED:20260307T161635Z
LAST-MODIFIED:20260307T162413Z
UID:4333-1799578800-1799600400@tanztdasleben.de
SUMMARY:Re-Connect-Workshop zum Jahresbeginn
DESCRIPTION:Ein Moment zum Durchatmen und Innehalten – auch diesmal laden wir dich wieder zu unserem ReConnect-Workshop rund um den Jahreswechsel ein. \nGemeinsam nehmen wir uns Zeit\, dem vergangenen Jahr mit Bewegung und Tanz zu begegnen. Wir würdigen\, was gewachsen ist\, entdecken noch einmal die kostbaren Momente und lassen zugleich los\, was seinen Platz gehabt hat und nun gehen darf. \nAus dieser bewussten Rückschau entsteht Raum für Neues. Im Tanz dürfen sich erste Bilder\, Wünsche und Visionen für das kommende Jahr zeigen. \nGönn dir diesen Tag als nährende Pause – ein kreativer und gemeinschaftlicher Raum\, der dich stärkt und dir hilft\, ausgerichtet und lebendig in das neue Jahr aufzubrechen. \nOrt: Der BewegungsraumAdresse: Riedstraße 2\, DarmstadtAnkommen ab: 10:45 UhrWorkshop: 11:00 – 17:00 Uhr \nKosten: 90 €Frühbucherpreis: 75 € bei Anmeldung bis 20.12.2026
URL:https://tanztdasleben.de/event/re-connect26_27
LOCATION:Der Bewegungsraum\, Riedstraße 2\, Darmstadt\, Hessen\, 64295\, Deutschland
CATEGORIES:Workshop
ATTACH;FMTTYPE=image/png:https://tanztdasleben.de/wp-content/uploads/2024/10/20251108_ReConnect-Webseite.png
END:VEVENT
END:VCALENDAR